BEGIN:VCALENDAR
PRODID:-//eluceo/ical//2.0/EN
VERSION:2.0
CALSCALE:GREGORIAN
BEGIN:VEVENT
UID:415bd747367f9fc54154944e2419664d
DTSTAMP:20260420T102027Z
SUMMARY:Vortrag Inbound Olivia Hoyt
DESCRIPTION:Sprekers: Olivia Hoyt\n\n
URL:https://rotary-rheinfelden.ch/nl/agenda/show/41720
DTSTART;TZID=Europe/Zurich:20140923T120000
DTEND;TZID=Europe/Zurich:20140923T140000
LOCATION:Park Hotel am Rhein - Rheinfelden
CATEGORIES:Rotary
END:VEVENT
BEGIN:VTIMEZONE
TZID:Europe/Zurich
BEGIN:DAYLIGHT
DTSTART:20140923T120000
TZNAME:CEST
TZOFFSETTO:+0200
TZOFFSETFROM:+0200
END:DAYLIGHT
END:VTIMEZONE
END:VCALENDAR
