BEGIN:VCALENDAR
PRODID:-//eluceo/ical//2.0/EN
VERSION:2.0
CALSCALE:GREGORIAN
BEGIN:VEVENT
UID:6a8e70eb2a2d6de0f76886bcbe70b574
DTSTAMP:20260422T101453Z
SUMMARY:Clubwanderung
DESCRIPTION:Sprekers: Markus Hasler\n
URL:https://rotary-rheinfelden.ch/nl/agenda/show/41715
DTSTART;TZID=Europe/Zurich:20140829T080000
DTEND;TZID=Europe/Zurich:20140830T180000
LOCATION:Schweiz
CATEGORIES:Rotary
END:VEVENT
BEGIN:VTIMEZONE
TZID:Europe/Zurich
BEGIN:DAYLIGHT
DTSTART:20140829T080000
TZNAME:CEST
TZOFFSETTO:+0200
TZOFFSETFROM:+0200
END:DAYLIGHT
END:VTIMEZONE
END:VCALENDAR
