BEGIN:VCALENDAR
PRODID:-//eluceo/ical//2.0/EN
VERSION:2.0
CALSCALE:GREGORIAN
BEGIN:VEVENT
UID:0c05987a521a18eb1b6c761379fd6ea5
DTSTAMP:20260422T093857Z
SUMMARY:Respekt im Umgang mit Patienten in der Psychiatrie
DESCRIPTION:Sprekers: Herr Juerg Waldmeier (Klinik Schützen)
URL:https://rotary-rheinfelden.ch/nl/agenda/show/39902
DTSTART;TZID=Europe/Zurich:20140415T121500
DTEND;TZID=Europe/Zurich:20140415T140000
LOCATION:Park Hotel am Rhein - Rheinfelden
CATEGORIES:Rotary
END:VEVENT
BEGIN:VTIMEZONE
TZID:Europe/Zurich
BEGIN:DAYLIGHT
DTSTART:20140415T121500
TZNAME:CEST
TZOFFSETTO:+0200
TZOFFSETFROM:+0200
END:DAYLIGHT
END:VTIMEZONE
END:VCALENDAR
