BEGIN:VCALENDAR
PRODID:-//eluceo/ical//2.0/EN
VERSION:2.0
CALSCALE:GREGORIAN
BEGIN:VEVENT
UID:b97ba031699b3cd2f0e5270c7629a895
DTSTAMP:20260422T100956Z
SUMMARY:Vertrauen in andere Kulturen (Spanischer Abend: Partneranlass)
DESCRIPTION:Sprekers: Maria Burgherr
URL:https://rotary-rheinfelden.ch/nl/agenda/show/26434
DTSTART;TZID=Europe/Zurich:20130205T000000
DTEND;TZID=Europe/Zurich:20130205T000000
LOCATION:Rampart\, Frick
CATEGORIES:Rotary
END:VEVENT
BEGIN:VTIMEZONE
TZID:Europe/Zurich
BEGIN:STANDARD
DTSTART:20130205T000000
TZNAME:CET
TZOFFSETTO:+0100
TZOFFSETFROM:+0100
END:STANDARD
END:VTIMEZONE
END:VCALENDAR
