BEGIN:VCALENDAR
PRODID:-//eluceo/ical//2.0/EN
VERSION:2.0
CALSCALE:GREGORIAN
BEGIN:VEVENT
UID:0c9f13997e0e322c28b77519459b7ce1
DTSTAMP:20260420T085428Z
SUMMARY:Plauderlunch
DESCRIPTION:
URL:https://rotary-rheinfelden.ch/nl/agenda/show/26433
DTSTART;TZID=Europe/Zurich:20130205T000000
DTEND;TZID=Europe/Zurich:20130205T000000
LOCATION:Hotel Engel\, Frick
CATEGORIES:Rotary
END:VEVENT
BEGIN:VTIMEZONE
TZID:Europe/Zurich
BEGIN:STANDARD
DTSTART:20130205T000000
TZNAME:CET
TZOFFSETTO:+0100
TZOFFSETFROM:+0100
END:STANDARD
END:VTIMEZONE
END:VCALENDAR
