BEGIN:VCALENDAR
PRODID:-//eluceo/ical//2.0/EN
VERSION:2.0
CALSCALE:GREGORIAN
BEGIN:VEVENT
UID:26ef58c82aad12f947b3479fecdd20d6
DTSTAMP:20260420T102313Z
SUMMARY:Lunch mit dem Präsidenten des RC Laufenburg-Fricktal\, Urs Keller
DESCRIPTION:Webseite: http://www.parkresort.ch/de/park-hotel-am-rhein\nRefe
 renten/innen: Urs Keller und Doris Becker informieren zu ihren Jahresmotto
 .
URL:https://rotary-rheinfelden.ch/de/agenda/show/199849
DTSTART;TZID=Europe/Zurich:20250923T114500
DTEND;TZID=Europe/Zurich:20250923T134500
LOCATION:Park-Hotel am Rhein in Rheinfelden\, Roberstenstrasse 31\, 4310 Rh
 einfelden\, Schweiz
CATEGORIES:Rotary
END:VEVENT
BEGIN:VTIMEZONE
TZID:Europe/Zurich
BEGIN:DAYLIGHT
DTSTART:20250923T114500
TZNAME:CEST
TZOFFSETTO:+0200
TZOFFSETFROM:+0200
END:DAYLIGHT
END:VTIMEZONE
END:VCALENDAR
