BEGIN:VCALENDAR
PRODID:-//eluceo/ical//2.0/EN
VERSION:2.0
CALSCALE:GREGORIAN
BEGIN:VEVENT
UID:6fbd8dedad9cd1ca0cf30f52e947de33
DTSTAMP:20260420T102452Z
SUMMARY:Partneranlass Open Classic am Rhein
DESCRIPTION:Webseite: http://open-classics-am-rhein.ch\nReferenten/innen: 
URL:https://rotary-rheinfelden.ch/de/agenda/show/198308
DTSTART;TZID=Europe/Zurich:20250809T183000
DTEND;TZID=Europe/Zurich:20250809T230000
LOCATION:Hotel Schiff / Inseli Rheinfelden
CATEGORIES:Rotary
END:VEVENT
BEGIN:VTIMEZONE
TZID:Europe/Zurich
BEGIN:DAYLIGHT
DTSTART:20250809T183000
TZNAME:CEST
TZOFFSETTO:+0200
TZOFFSETFROM:+0200
END:DAYLIGHT
END:VTIMEZONE
END:VCALENDAR
